BEGIN:VCALENDAR
VERSION:2.0
PRODID:-//Kabekona Community Church - ECPv6.15.17//NONSGML v1.0//EN
CALSCALE:GREGORIAN
METHOD:PUBLISH
X-WR-CALNAME:Kabekona Community Church
X-ORIGINAL-URL:https://kabekona.org
X-WR-CALDESC:Events for Kabekona Community Church
REFRESH-INTERVAL;VALUE=DURATION:PT1H
X-Robots-Tag:noindex
X-PUBLISHED-TTL:PT1H
BEGIN:VTIMEZONE
TZID:America/Chicago
BEGIN:DAYLIGHT
TZOFFSETFROM:-0600
TZOFFSETTO:-0500
TZNAME:CDT
DTSTART:20250309T080000
END:DAYLIGHT
BEGIN:STANDARD
TZOFFSETFROM:-0500
TZOFFSETTO:-0600
TZNAME:CST
DTSTART:20251102T070000
END:STANDARD
BEGIN:DAYLIGHT
TZOFFSETFROM:-0600
TZOFFSETTO:-0500
TZNAME:CDT
DTSTART:20260308T080000
END:DAYLIGHT
BEGIN:STANDARD
TZOFFSETFROM:-0500
TZOFFSETTO:-0600
TZNAME:CST
DTSTART:20261101T070000
END:STANDARD
BEGIN:DAYLIGHT
TZOFFSETFROM:-0600
TZOFFSETTO:-0500
TZNAME:CDT
DTSTART:20270314T080000
END:DAYLIGHT
BEGIN:STANDARD
TZOFFSETFROM:-0500
TZOFFSETTO:-0600
TZNAME:CST
DTSTART:20271107T070000
END:STANDARD
END:VTIMEZONE
BEGIN:VEVENT
DTSTART;TZID=America/Chicago:20260104T093000
DTEND;TZID=America/Chicago:20260104T123000
DTSTAMP:20260418T215155
CREATED:20260103T165414Z
LAST-MODIFIED:20260103T165414Z
UID:324-1767519000-1767529800@kabekona.org
SUMMARY:Sunday\, January 4\, 2026
DESCRIPTION:Please join us for Sunday School at 9:30 AM\, classes for all ages. \nThe morning Worship Service at 10:45 AM as Pastor Jason Schafbuch brings the message “The Care of the Wounded Sheep” – Romans 12:13-15.
URL:https://kabekona.org/event/sunday-january-4-2026/
ATTACH;FMTTYPE=image/jpeg:https://kabekona.org/wp-content/uploads/2025/06/Crosses-e1749823613866.jpg
END:VEVENT
BEGIN:VEVENT
DTSTART;TZID=America/Chicago:20260111T093000
DTEND;TZID=America/Chicago:20260111T123000
DTSTAMP:20260418T215155
CREATED:20260110T015143Z
LAST-MODIFIED:20260110T015143Z
UID:327-1768123800-1768134600@kabekona.org
SUMMARY:Sunday\, January 11\, 2026
DESCRIPTION:Please join us for Sunday School at 9:30 a.m.\, classes for all ages. \nThe morning Worship Service and Communion at 10:45 a.m. as Pastor Jason Schafbuch brings the message “Marks of our Spiritual Worship\, part 2.” – Romans 12:12-17.
URL:https://kabekona.org/event/sunday-january-11-2026/
ATTACH;FMTTYPE=image/jpeg:https://kabekona.org/wp-content/uploads/2025/06/Crosses-e1749823613866.jpg
END:VEVENT
BEGIN:VEVENT
DTSTART;TZID=America/Chicago:20260118T093000
DTEND;TZID=America/Chicago:20260118T123000
DTSTAMP:20260418T215155
CREATED:20260117T160811Z
LAST-MODIFIED:20260117T160811Z
UID:330-1768728600-1768739400@kabekona.org
SUMMARY:Sunday\, January 18\, 2026
DESCRIPTION:Please join us for Sunday School at 9:30 a.m. There are classes for all ages. \nThe morning Worship Service at 10:45 a.m. as Pastor Jason Schafbuch brings the message “Our Marks of Spiritual Worship in the midst of difficult people.” – Romans 12:17-21.
URL:https://kabekona.org/event/sunday-january-18-2026/
ATTACH;FMTTYPE=image/jpeg:https://kabekona.org/wp-content/uploads/2025/06/Crosses-e1749823613866.jpg
END:VEVENT
BEGIN:VEVENT
DTSTART;TZID=America/Chicago:20260125T093000
DTEND;TZID=America/Chicago:20260125T123000
DTSTAMP:20260418T215155
CREATED:20260123T170646Z
LAST-MODIFIED:20260123T170646Z
UID:332-1769333400-1769344200@kabekona.org
SUMMARY:Sunday\, January 25\, 2026
DESCRIPTION:Please join us for Sunday School at 9:30 AM\, classes for all ages. \nThe morning Worship Service at 10:45 AM as Pastor Jason Schafbuch brings the message “Where does the Responsibility Lie?” – Romans 13:1-7. \n 
URL:https://kabekona.org/event/sunday-january-25-2026/
ATTACH;FMTTYPE=image/jpeg:https://kabekona.org/wp-content/uploads/2025/06/Crosses-e1749823613866.jpg
END:VEVENT
END:VCALENDAR