BEGIN:VCALENDAR
VERSION:2.0
PRODID:-//Kabekona Community Church - ECPv6.15.17//NONSGML v1.0//EN
CALSCALE:GREGORIAN
METHOD:PUBLISH
X-WR-CALNAME:Kabekona Community Church
X-ORIGINAL-URL:https://kabekona.org
X-WR-CALDESC:Events for Kabekona Community Church
REFRESH-INTERVAL;VALUE=DURATION:PT1H
X-Robots-Tag:noindex
X-PUBLISHED-TTL:PT1H
BEGIN:VTIMEZONE
TZID:America/Chicago
BEGIN:DAYLIGHT
TZOFFSETFROM:-0600
TZOFFSETTO:-0500
TZNAME:CDT
DTSTART:20240310T080000
END:DAYLIGHT
BEGIN:STANDARD
TZOFFSETFROM:-0500
TZOFFSETTO:-0600
TZNAME:CST
DTSTART:20241103T070000
END:STANDARD
BEGIN:DAYLIGHT
TZOFFSETFROM:-0600
TZOFFSETTO:-0500
TZNAME:CDT
DTSTART:20250309T080000
END:DAYLIGHT
BEGIN:STANDARD
TZOFFSETFROM:-0500
TZOFFSETTO:-0600
TZNAME:CST
DTSTART:20251102T070000
END:STANDARD
BEGIN:DAYLIGHT
TZOFFSETFROM:-0600
TZOFFSETTO:-0500
TZNAME:CDT
DTSTART:20260308T080000
END:DAYLIGHT
BEGIN:STANDARD
TZOFFSETFROM:-0500
TZOFFSETTO:-0600
TZNAME:CST
DTSTART:20261101T070000
END:STANDARD
END:VTIMEZONE
BEGIN:VEVENT
DTSTART;TZID=America/Chicago:20250616T180000
DTEND;TZID=America/Chicago:20250620T194500
DTSTAMP:20260421T142014
CREATED:20250609T145804Z
LAST-MODIFIED:20250613T141349Z
UID:204-1750096800-1750448700@kabekona.org
SUMMARY:Vacation Bible School
DESCRIPTION:
URL:https://kabekona.org/event/vacation-bible-school/
LOCATION:Kabekona Community Church\, 23966 Old Cemetery Road\, Laporte\, Minnesota\, 56461
ATTACH;FMTTYPE=image/png:https://kabekona.org/wp-content/uploads/2025/06/WJ-Main-Logo_No-Tagline-1-scaled.png
END:VEVENT
END:VCALENDAR