BEGIN:VCALENDAR
VERSION:2.0
PRODID:-//Kabekona Community Church - ECPv6.15.17//NONSGML v1.0//EN
CALSCALE:GREGORIAN
METHOD:PUBLISH
X-WR-CALNAME:Kabekona Community Church
X-ORIGINAL-URL:https://kabekona.org
X-WR-CALDESC:Events for Kabekona Community Church
REFRESH-INTERVAL;VALUE=DURATION:PT1H
X-Robots-Tag:noindex
X-PUBLISHED-TTL:PT1H
BEGIN:VTIMEZONE
TZID:America/Chicago
BEGIN:DAYLIGHT
TZOFFSETFROM:-0600
TZOFFSETTO:-0500
TZNAME:CDT
DTSTART:20240310T080000
END:DAYLIGHT
BEGIN:STANDARD
TZOFFSETFROM:-0500
TZOFFSETTO:-0600
TZNAME:CST
DTSTART:20241103T070000
END:STANDARD
BEGIN:DAYLIGHT
TZOFFSETFROM:-0600
TZOFFSETTO:-0500
TZNAME:CDT
DTSTART:20250309T080000
END:DAYLIGHT
BEGIN:STANDARD
TZOFFSETFROM:-0500
TZOFFSETTO:-0600
TZNAME:CST
DTSTART:20251102T070000
END:STANDARD
BEGIN:DAYLIGHT
TZOFFSETFROM:-0600
TZOFFSETTO:-0500
TZNAME:CDT
DTSTART:20260308T080000
END:DAYLIGHT
BEGIN:STANDARD
TZOFFSETFROM:-0500
TZOFFSETTO:-0600
TZNAME:CST
DTSTART:20261101T070000
END:STANDARD
END:VTIMEZONE
BEGIN:VEVENT
DTSTART;TZID=America/Chicago:20251102T093000
DTEND;TZID=America/Chicago:20251102T123000
DTSTAMP:20260421T165858
CREATED:20251031T201108Z
LAST-MODIFIED:20251031T201108Z
UID:294-1762075800-1762086600@kabekona.org
SUMMARY:Sunday\, November 2\, 2025
DESCRIPTION:Please join us for Sunday School at 9:30 AM\, classes for all ages. \nThe morning Worship Service at 10:45 AM as Pastor Jason Schafbuch brings the message “The Majesty of God” – Romans 11:30-36.
URL:https://kabekona.org/event/sunday-november-2-2025/
ATTACH;FMTTYPE=image/jpeg:https://kabekona.org/wp-content/uploads/2025/06/Crosses-e1749823613866.jpg
END:VEVENT
BEGIN:VEVENT
DTSTART;TZID=America/Chicago:20251026T093000
DTEND;TZID=America/Chicago:20251026T123000
DTSTAMP:20260421T165858
CREATED:20251026T125624Z
LAST-MODIFIED:20251026T125624Z
UID:292-1761471000-1761481800@kabekona.org
SUMMARY:Sunday October 26\, 2025
DESCRIPTION:Please join us for Sunday School at 9:30 AM\, classes for all ages. \nThe morning Worship Service at 10:45 AM as Pastor Jason Schafbuch brings the message “God’s Mysteries” – Romans 11:25-29.
URL:https://kabekona.org/event/sunday-october-26-2025/
ATTACH;FMTTYPE=image/jpeg:https://kabekona.org/wp-content/uploads/2025/06/Crosses-e1749823613866.jpg
END:VEVENT
BEGIN:VEVENT
DTSTART;TZID=America/Chicago:20251019T093000
DTEND;TZID=America/Chicago:20251019T093000
DTSTAMP:20260421T165858
CREATED:20251018T000314Z
LAST-MODIFIED:20251018T000514Z
UID:287-1760866200-1760866200@kabekona.org
SUMMARY:Sunday October 19\, 2025
DESCRIPTION:Please join us for Sunday School at 9:30 AM\, classes for all ages. \nThe morning Worship Service at10:45 AM as Pastor Jason Schafbuch brings the message “The Kindness of God” – Romans 11:17-24.
URL:https://kabekona.org/event/sunday-october-19-2025/
ATTACH;FMTTYPE=image/jpeg:https://kabekona.org/wp-content/uploads/2025/06/Crosses-e1749823613866.jpg
END:VEVENT
BEGIN:VEVENT
DTSTART;TZID=America/Chicago:20251012T093000
DTEND;TZID=America/Chicago:20251012T123000
DTSTAMP:20260421T165858
CREATED:20251011T012505Z
LAST-MODIFIED:20251011T012505Z
UID:285-1760261400-1760272200@kabekona.org
SUMMARY:Sunday October 12\, 2025
DESCRIPTION:Please join us for Sunday School at 9:30 AM\, classes for all ages. \nThe morning Worship Service and Communion at10:45 AM as Pastor Jason Schafbuch brings the message “The Mercy of God” – Romans 11:7-15.
URL:https://kabekona.org/event/sunday-october-12-2025/
ATTACH;FMTTYPE=image/jpeg:https://kabekona.org/wp-content/uploads/2025/06/Crosses-e1749823613866.jpg
END:VEVENT
BEGIN:VEVENT
DTSTART;TZID=America/Chicago:20251005T093000
DTEND;TZID=America/Chicago:20251005T123000
DTSTAMP:20260421T165858
CREATED:20251004T185120Z
LAST-MODIFIED:20251004T185120Z
UID:282-1759656600-1759667400@kabekona.org
SUMMARY:Sunday October 5\, 2025
DESCRIPTION:Please join us for Sunday School at 9:30 AM\, classes for all ages. \nThe morning Worship Service at 10:45 AM as Pastor Jason Schafbuch brings the message “We walk by Faith not by Sight” – Romans 11:1-7.
URL:https://kabekona.org/event/sunday-october-5-2025/
ATTACH;FMTTYPE=image/jpeg:https://kabekona.org/wp-content/uploads/2025/06/Crosses-e1749823613866.jpg
END:VEVENT
BEGIN:VEVENT
DTSTART;TZID=America/Chicago:20250928T093000
DTEND;TZID=America/Chicago:20250928T123000
DTSTAMP:20260421T165858
CREATED:20250927T172743Z
LAST-MODIFIED:20250927T172743Z
UID:279-1759051800-1759062600@kabekona.org
SUMMARY:Sunday September 28\, 2025
DESCRIPTION:Please join us for Sunday School at 9:30 AM\, classes for all ages. \nThe morning Worship Service at 10:45 AM as Pastor Jason Schafbuch brings the message “An Obedient Heart know the Lord” – Romans 10:16-21.
URL:https://kabekona.org/event/sunday-september-28-2025/
ATTACH;FMTTYPE=image/jpeg:https://kabekona.org/wp-content/uploads/2025/06/Crosses-e1749823613866.jpg
END:VEVENT
BEGIN:VEVENT
DTSTART;TZID=America/Chicago:20250921T093000
DTEND;TZID=America/Chicago:20250921T123000
DTSTAMP:20260421T165858
CREATED:20250919T205759Z
LAST-MODIFIED:20250919T205759Z
UID:276-1758447000-1758457800@kabekona.org
SUMMARY:Sunday September 21\, 2025
DESCRIPTION:Please join us for Sunday School at 9:30 AM\, classes for all ages. \nThe morning Worship Service at 10:45 AM as Pastor Jason Schafbuch brings the message “The Glorious Gospel” – Romans 10:11-15.
URL:https://kabekona.org/event/sunday-september-21-2025/
ATTACH;FMTTYPE=image/jpeg:https://kabekona.org/wp-content/uploads/2025/06/Crosses-e1749823613866.jpg
END:VEVENT
BEGIN:VEVENT
DTSTART;TZID=America/Chicago:20250914T093000
DTEND;TZID=America/Chicago:20250914T123000
DTSTAMP:20260421T165858
CREATED:20250913T014110Z
LAST-MODIFIED:20250913T014110Z
UID:274-1757842200-1757853000@kabekona.org
SUMMARY:Sunday September 14\, 2025
DESCRIPTION:Please join us for Sunday School at 9:30 AM\, classes for all ages. \nThe morning Worship Service and Communion at 10:45 AM as Pastor Jason Schafbuch brings the message “Submission: Believe and Confess” – Romans 10:5-10.
URL:https://kabekona.org/event/sunday-september-14-2025/
ATTACH;FMTTYPE=image/jpeg:https://kabekona.org/wp-content/uploads/2025/06/Crosses-e1749823613866.jpg
END:VEVENT
BEGIN:VEVENT
DTSTART;TZID=America/Chicago:20250907T093000
DTEND;TZID=America/Chicago:20250907T123000
DTSTAMP:20260421T165858
CREATED:20250906T133507Z
LAST-MODIFIED:20250906T140904Z
UID:267-1757237400-1757248200@kabekona.org
SUMMARY:Sunday September 7\, 2025
DESCRIPTION:Please join us for Sunday School at 9:30 AM\, classes for all ages. \nThe morning Worship Service at 10:45 AM as Pastor Jason Schafbuch brings the message “Choice: Ignorant or Righteousness” – Romans 10:1-4. \nEveryone is invited to join us as we kick off our Fall Ministries with our annual Sunday School Picnic following the morning service.
URL:https://kabekona.org/event/sunday-september-7-2025/
ATTACH;FMTTYPE=image/jpeg:https://kabekona.org/wp-content/uploads/2025/06/Crosses-e1749823613866.jpg
END:VEVENT
BEGIN:VEVENT
DTSTART;TZID=America/Chicago:20250831T100000
DTEND;TZID=America/Chicago:20250831T123000
DTSTAMP:20260421T165858
CREATED:20250830T020204Z
LAST-MODIFIED:20250830T020204Z
UID:264-1756634400-1756643400@kabekona.org
SUMMARY:Sunday August 31\, 2025
DESCRIPTION:Please join us for the Fellowship Hour at 10:00 AM. \nThe morning Worship Service at 10:45 AM as Pastor Jason Schafbuch brings the message “Pursuit by Faith and Not Works” – Romans 9:27-33.
URL:https://kabekona.org/event/sunday-august-31-2025/
ATTACH;FMTTYPE=image/jpeg:https://kabekona.org/wp-content/uploads/2025/06/Crosses-e1749823613866.jpg
END:VEVENT
BEGIN:VEVENT
DTSTART;TZID=America/Chicago:20250824T100000
DTEND;TZID=America/Chicago:20250824T123000
DTSTAMP:20260421T165858
CREATED:20250822T124433Z
LAST-MODIFIED:20250822T124433Z
UID:261-1756029600-1756038600@kabekona.org
SUMMARY:Sunday August 24\, 2025
DESCRIPTION:Please join us for the Fellowship Hour at 10:00 AM. \nThe morning Worship Service at 10:45 AM as Pastor Jason Schafbuch brings the message “We are Known by the Potter” – Romans 9:19-26.
URL:https://kabekona.org/event/sunday-august-24-2025/
ATTACH;FMTTYPE=image/jpeg:https://kabekona.org/wp-content/uploads/2025/06/Crosses-e1749823613866.jpg
END:VEVENT
BEGIN:VEVENT
DTSTART;TZID=America/Chicago:20250817T100000
DTEND;TZID=America/Chicago:20250817T123000
DTSTAMP:20260421T165858
CREATED:20250815T150209Z
LAST-MODIFIED:20250815T150209Z
UID:256-1755424800-1755433800@kabekona.org
SUMMARY:Sunday August 17\, 2025
DESCRIPTION:Please join us for the Fellowship Hour at 10:00 AM. \nThe morning Worship Service at 10:45 AM as Pastor Jason Schafbuch brings the message “Is God Unjust?” – Romans 9:14-18. \nThe Ministry Fair following the morning service. Come and check out the opportunities to get plugged into the body of Christ here at KCC.
URL:https://kabekona.org/event/sunday-august-17-2025/
ATTACH;FMTTYPE=image/jpeg:https://kabekona.org/wp-content/uploads/2025/06/Crosses-e1749823613866.jpg
END:VEVENT
BEGIN:VEVENT
DTSTART;TZID=America/Chicago:20250810T100000
DTEND;TZID=America/Chicago:20250810T123000
DTSTAMP:20260421T165858
CREATED:20250809T205245Z
LAST-MODIFIED:20250809T205245Z
UID:254-1754820000-1754829000@kabekona.org
SUMMARY:Sunday August 10\, 2025
DESCRIPTION:Please join us for the Fellowship Hour at 10:00 AM. \nThe morning Worship Service at 10:45 AM as Pastor Jason Schafbuch brings the message “God’s Promise\, His  Purpose” – Romans 9:6-13.
URL:https://kabekona.org/event/sunday-august-10-2025/
ATTACH;FMTTYPE=image/jpeg:https://kabekona.org/wp-content/uploads/2025/06/Crosses-e1749823613866.jpg
END:VEVENT
BEGIN:VEVENT
DTSTART;TZID=America/Chicago:20250803T100000
DTEND;TZID=America/Chicago:20250803T123000
DTSTAMP:20260421T165858
CREATED:20250801T202215Z
LAST-MODIFIED:20250801T202215Z
UID:250-1754215200-1754224200@kabekona.org
SUMMARY:Sunday August 3\, 2025
DESCRIPTION:Please join us for the Fellowship Hour at 10:00 AM \nThe morning Worship Service at 10:45 AM as Pastor Jason Schafbuch brings the message “Our Passion\, His Ways” – Romans 9:1-5.
URL:https://kabekona.org/event/sunday-august-3-2025/
ATTACH;FMTTYPE=image/jpeg:https://kabekona.org/wp-content/uploads/2025/06/Crosses-e1749823613866.jpg
END:VEVENT
BEGIN:VEVENT
DTSTART;TZID=America/Chicago:20250727T100000
DTEND;TZID=America/Chicago:20250727T120000
DTSTAMP:20260421T165858
CREATED:20250726T013353Z
LAST-MODIFIED:20250726T013353Z
UID:246-1753610400-1753617600@kabekona.org
SUMMARY:Sunday July 27\, 2025
DESCRIPTION:Join us for the Fellowship Hour at 10:00 AM. \nThe morning Worship Service at 10:45 AM as Jon Dahl brings the message from Ephesians 4:1-16.
URL:https://kabekona.org/event/sunday-july-27-2025/
ATTACH;FMTTYPE=image/jpeg:https://kabekona.org/wp-content/uploads/2025/06/Crosses-e1749823613866.jpg
END:VEVENT
BEGIN:VEVENT
DTSTART;TZID=America/Chicago:20250720T100000
DTEND;TZID=America/Chicago:20250720T123000
DTSTAMP:20260421T165858
CREATED:20250718T181512Z
LAST-MODIFIED:20250718T181512Z
UID:243-1753005600-1753014600@kabekona.org
SUMMARY:Sunday July 20\, 2025
DESCRIPTION:Please join us for the Fellowship Hour at 10:00 AM \nThe morning Worship Service at 10:45 AM as Pastor Jason Schafbuch brings the message “Secure in Christ from the Seen and Unseen” – Romans 8:35-39.
URL:https://kabekona.org/event/sunday-july-20-2025/
ATTACH;FMTTYPE=image/jpeg:https://kabekona.org/wp-content/uploads/2025/06/Crosses-e1749823613866.jpg
END:VEVENT
BEGIN:VEVENT
DTSTART;TZID=America/Chicago:20250713T100000
DTEND;TZID=America/Chicago:20250713T140000
DTSTAMP:20260421T165858
CREATED:20250712T010717Z
LAST-MODIFIED:20250712T010717Z
UID:239-1752400800-1752415200@kabekona.org
SUMMARY:Sunday July 13\, 2025
DESCRIPTION:Join us for the Fellowship Hour at 10:00 AM \nThe morning Worship Service at 10:45 AM as Pastor Jason brings the message “God is for us!!!” – Romans 8:31-34. \nBaptism and Picnic to follow the service at Lake Paine Park in Lake George\, MN.
URL:https://kabekona.org/event/sunday-july-13-2025/
ATTACH;FMTTYPE=image/jpeg:https://kabekona.org/wp-content/uploads/2025/06/Crosses-e1749823613866.jpg
END:VEVENT
BEGIN:VEVENT
DTSTART;TZID=America/Chicago:20250706T104500
DTEND;TZID=America/Chicago:20250706T123000
DTSTAMP:20260421T165858
CREATED:20250705T174509Z
LAST-MODIFIED:20250705T174628Z
UID:237-1751798700-1751805000@kabekona.org
SUMMARY:Sunday July 6\, 2025
DESCRIPTION:Join us for the morning Worship Service as Pastor Jason brings the message “The Work of God”  – part 2 Romans 8:29-30.
URL:https://kabekona.org/event/sunday-july-6-2025/
ATTACH;FMTTYPE=image/jpeg:https://kabekona.org/wp-content/uploads/2025/06/Crosses-e1749823613866.jpg
END:VEVENT
BEGIN:VEVENT
DTSTART;TZID=America/Chicago:20250629T104500
DTEND;TZID=America/Chicago:20250629T123000
DTSTAMP:20260421T165858
CREATED:20250627T130649Z
LAST-MODIFIED:20250627T130649Z
UID:233-1751193900-1751200200@kabekona.org
SUMMARY:Sunday June 29\, 2025
DESCRIPTION:Join us for the morning Worship Service as Pastor Jason brings the message “The Work of God” – Romans 8:26-30.
URL:https://kabekona.org/event/sunday-june-29-2025/
ATTACH;FMTTYPE=image/jpeg:https://kabekona.org/wp-content/uploads/2025/06/Crosses-e1749823613866.jpg
END:VEVENT
BEGIN:VEVENT
DTSTART;TZID=America/Chicago:20250622T104500
DTEND;TZID=America/Chicago:20250622T104500
DTSTAMP:20260421T165858
CREATED:20250613T140900Z
LAST-MODIFIED:20250620T115955Z
UID:221-1750589100-1750589100@kabekona.org
SUMMARY:Sunday June 22\, 2025
DESCRIPTION:Join us for the morning Worship Service as Pastor Jason brings the message “Freedom of Glory” – Romans 8:18-25.
URL:https://kabekona.org/event/sunday-june-15-2025/
LOCATION:Kabekona Community Church\, 23966 Old Cemetery Road\, Laporte\, Minnesota\, 56461
ATTACH;FMTTYPE=image/jpeg:https://kabekona.org/wp-content/uploads/2025/06/Crosses-e1749823613866.jpg
END:VEVENT
BEGIN:VEVENT
DTSTART;TZID=America/Chicago:20250616T180000
DTEND;TZID=America/Chicago:20250620T194500
DTSTAMP:20260421T165858
CREATED:20250609T145804Z
LAST-MODIFIED:20250613T141349Z
UID:204-1750096800-1750448700@kabekona.org
SUMMARY:Vacation Bible School
DESCRIPTION:
URL:https://kabekona.org/event/vacation-bible-school/
LOCATION:Kabekona Community Church\, 23966 Old Cemetery Road\, Laporte\, Minnesota\, 56461
ATTACH;FMTTYPE=image/png:https://kabekona.org/wp-content/uploads/2025/06/WJ-Main-Logo_No-Tagline-1-scaled.png
END:VEVENT
END:VCALENDAR