BEGIN:VCALENDAR
VERSION:2.0
PRODID:-//Kabekona Community Church - ECPv6.15.17//NONSGML v1.0//EN
CALSCALE:GREGORIAN
METHOD:PUBLISH
X-WR-CALNAME:Kabekona Community Church
X-ORIGINAL-URL:https://kabekona.org
X-WR-CALDESC:Events for Kabekona Community Church
REFRESH-INTERVAL;VALUE=DURATION:PT1H
X-Robots-Tag:noindex
X-PUBLISHED-TTL:PT1H
BEGIN:VTIMEZONE
TZID:America/Chicago
BEGIN:DAYLIGHT
TZOFFSETFROM:-0600
TZOFFSETTO:-0500
TZNAME:CDT
DTSTART:20240310T080000
END:DAYLIGHT
BEGIN:STANDARD
TZOFFSETFROM:-0500
TZOFFSETTO:-0600
TZNAME:CST
DTSTART:20241103T070000
END:STANDARD
BEGIN:DAYLIGHT
TZOFFSETFROM:-0600
TZOFFSETTO:-0500
TZNAME:CDT
DTSTART:20250309T080000
END:DAYLIGHT
BEGIN:STANDARD
TZOFFSETFROM:-0500
TZOFFSETTO:-0600
TZNAME:CST
DTSTART:20251102T070000
END:STANDARD
BEGIN:DAYLIGHT
TZOFFSETFROM:-0600
TZOFFSETTO:-0500
TZNAME:CDT
DTSTART:20260308T080000
END:DAYLIGHT
BEGIN:STANDARD
TZOFFSETFROM:-0500
TZOFFSETTO:-0600
TZNAME:CST
DTSTART:20261101T070000
END:STANDARD
BEGIN:DAYLIGHT
TZOFFSETFROM:-0600
TZOFFSETTO:-0500
TZNAME:CDT
DTSTART:20270314T080000
END:DAYLIGHT
BEGIN:STANDARD
TZOFFSETFROM:-0500
TZOFFSETTO:-0600
TZNAME:CST
DTSTART:20271107T070000
END:STANDARD
END:VTIMEZONE
BEGIN:VEVENT
DTSTART;TZID=America/Chicago:20260412T093000
DTEND;TZID=America/Chicago:20260412T123000
DTSTAMP:20260421T065758
CREATED:20260410T205923Z
LAST-MODIFIED:20260410T205923Z
UID:369-1775986200-1775997000@kabekona.org
SUMMARY:Sunday\, April 12\, 2026
DESCRIPTION:Please join us for Sunday School at 9:30 AM. There are classes for all ages. \nThe morning Worship Service at 10:45 AM as Pastor Jason Schafbuch brings the message “Together May We Glorify God” (Romans 15:1-7).
URL:https://kabekona.org/event/sunday-april-12-2026/
ATTACH;FMTTYPE=image/jpeg:https://kabekona.org/wp-content/uploads/2025/06/Crosses-e1749823613866.jpg
END:VEVENT
BEGIN:VEVENT
DTSTART;TZID=America/Chicago:20260405T080000
DTEND;TZID=America/Chicago:20260405T103000
DTSTAMP:20260421T065758
CREATED:20260321T155733Z
LAST-MODIFIED:20260404T154049Z
UID:361-1775376000-1775385000@kabekona.org
SUMMARY:Resurrection Sunday\, April 5\, 2026
DESCRIPTION:Please join us as we celebrate our Risen Savior. \nBreakfast will be served at 8:00 A.M. \nThe Resurrection Sunday Service will begin at 9:30 A.M. as Pastor Jason Schafbuch brings the message “Preeminent and Victorious Christ” (Col. 1:12-23).
URL:https://kabekona.org/event/resurrection-sunday/
ATTACH;FMTTYPE=image/jpeg:https://kabekona.org/wp-content/uploads/2026/03/he-is-risen-300x168-1.jpg
END:VEVENT
BEGIN:VEVENT
DTSTART;TZID=America/Chicago:20260403T183000
DTEND;TZID=America/Chicago:20260403T193000
DTSTAMP:20260421T065758
CREATED:20260321T155334Z
LAST-MODIFIED:20260321T155334Z
UID:359-1775241000-1775244600@kabekona.org
SUMMARY:Good Friday Service
DESCRIPTION:Join us as we reflect on our Savior’s sacrificial death.
URL:https://kabekona.org/event/good-friday-service/
ATTACH;FMTTYPE=image/webp:https://kabekona.org/wp-content/uploads/2026/03/passion-jesus-christ-hammer-bloody-260nw-603618608.webp
END:VEVENT
BEGIN:VEVENT
DTSTART;TZID=America/Chicago:20260329T093000
DTEND;TZID=America/Chicago:20260329T123000
DTSTAMP:20260421T065758
CREATED:20260328T001815Z
LAST-MODIFIED:20260328T001815Z
UID:364-1774776600-1774787400@kabekona.org
SUMMARY:Psalm Sunday\, March 29\, 2026
DESCRIPTION:Please join us for Sunday School at 9:03 AM\, there are classes for all ages. \nThe morning Worship Service at 10:45 AM as Pastor Jason Schafbuch brings the message “Unto Christ” (Romans 14:18-23).
URL:https://kabekona.org/event/psalm-sunday-march-29-2026/
ATTACH;FMTTYPE=image/jpeg:https://kabekona.org/wp-content/uploads/2026/03/ps2HD1.jpg
END:VEVENT
BEGIN:VEVENT
DTSTART;TZID=America/Chicago:20260322T093000
DTEND;TZID=America/Chicago:20260322T123000
DTSTAMP:20260421T065758
CREATED:20260320T122035Z
LAST-MODIFIED:20260320T122035Z
UID:353-1774171800-1774182600@kabekona.org
SUMMARY:Sunday\, March 22\, 2026
DESCRIPTION:Please join us for Sunday School at 9:30 AM\, there are classes for all ages. \nThe morning Worship Service at 10:45 AM as Pastor Jason Schafbuch brings the message “Walking in love towards our brother and sister” (Romans 14:13-17).
URL:https://kabekona.org/event/sunday-march-22-2026/
ATTACH;FMTTYPE=image/jpeg:https://kabekona.org/wp-content/uploads/2025/06/Crosses-e1749823613866.jpg
END:VEVENT
BEGIN:VEVENT
DTSTART;TZID=America/Chicago:20260308T093000
DTEND;TZID=America/Chicago:20260308T123000
DTSTAMP:20260421T065758
CREATED:20260307T020641Z
LAST-MODIFIED:20260307T020641Z
UID:350-1772962200-1772973000@kabekona.org
SUMMARY:Sunday\, March 8\, 2026
DESCRIPTION:Join us for Sunday School at 9:30 AM. There are classes for all ages. \nThe morning Worship Service at 10:45 AM as Pastor Jason brings the message “A Great Joy in our Homes.” (Deut. 6:4-9).
URL:https://kabekona.org/event/sunday-march-8-2026/
ATTACH;FMTTYPE=image/jpeg:https://kabekona.org/wp-content/uploads/2025/06/Crosses-e1749823613866.jpg
END:VEVENT
BEGIN:VEVENT
DTSTART;TZID=America/Chicago:20260301T093000
DTEND;TZID=America/Chicago:20260301T123000
DTSTAMP:20260421T065758
CREATED:20260227T181610Z
LAST-MODIFIED:20260227T181610Z
UID:346-1772357400-1772368200@kabekona.org
SUMMARY:Sunday\, March 1\, 2026
DESCRIPTION:Please join us for Sunday School at 9:30 AM. There will be classes for all ages. \nThe morning Worship Service and Communion at 10:45 AM as Pastor Jason brings the message “We are the Lord’s” (Romans 14:1-8).
URL:https://kabekona.org/event/sunday-march-1-2026/
ATTACH;FMTTYPE=image/jpeg:https://kabekona.org/wp-content/uploads/2025/06/Crosses-e1749823613866.jpg
END:VEVENT
BEGIN:VEVENT
DTSTART;TZID=America/Chicago:20260222T093000
DTEND;TZID=America/Chicago:20260222T123000
DTSTAMP:20260421T065758
CREATED:20260220T221933Z
LAST-MODIFIED:20260220T221933Z
UID:344-1771752600-1771763400@kabekona.org
SUMMARY:Sunday\, February 22\, 2026
DESCRIPTION:Please join us for Sunday School at 9:30 AM. There are classes for all ages. \nThe morning Worship Service at 10:45 Am as Pastor Jason Schafbuch brings the message “It’s time to Wake Up” (Romans 13:11-14).
URL:https://kabekona.org/event/sunday-february-22-2026/
ATTACH;FMTTYPE=image/jpeg:https://kabekona.org/wp-content/uploads/2025/06/Crosses-e1749823613866.jpg
END:VEVENT
BEGIN:VEVENT
DTSTART;TZID=America/Chicago:20260215T093000
DTEND;TZID=America/Chicago:20260215T123000
DTSTAMP:20260421T065758
CREATED:20260213T144202Z
LAST-MODIFIED:20260213T144202Z
UID:340-1771147800-1771158600@kabekona.org
SUMMARY:Sunday\, February 15\, 2026
DESCRIPTION:Please join us for Sunday School beginning at 9:30 AM. There are classes for all ages. \nThe morning Worship Service at 10:45 AM as Pastor Jason Schafbuch brings the message “What does Love have to do with the Law?” (Romans 13:8-10).
URL:https://kabekona.org/event/sunday-february-15-2026/
ATTACH;FMTTYPE=image/jpeg:https://kabekona.org/wp-content/uploads/2025/06/Crosses-e1749823613866.jpg
END:VEVENT
BEGIN:VEVENT
DTSTART;TZID=America/Chicago:20260208T090000
DTEND;TZID=America/Chicago:20260208T123000
DTSTAMP:20260421T065758
CREATED:20260206T151823Z
LAST-MODIFIED:20260206T151823Z
UID:337-1770541200-1770553800@kabekona.org
SUMMARY:Sunday\, February 8\, 2026
DESCRIPTION:Please join us for Sunday School at 9:30 AM. There are classes for all ages. \nThe morning Worship Service and Communion at 10:45 AM. as Pastor Jason Schafbuch brings the message “Where does the Responsibility Lie?\, part 3 – Romans 13:1-7.”
URL:https://kabekona.org/event/sunday-february-8-2026/
ATTACH;FMTTYPE=image/jpeg:https://kabekona.org/wp-content/uploads/2025/06/Crosses-e1749823613866.jpg
END:VEVENT
BEGIN:VEVENT
DTSTART;TZID=America/Chicago:20260201T093000
DTEND;TZID=America/Chicago:20260201T123000
DTSTAMP:20260421T065758
CREATED:20260131T133805Z
LAST-MODIFIED:20260131T133805Z
UID:335-1769938200-1769949000@kabekona.org
SUMMARY:Sunday\, February 1\, 2026
DESCRIPTION:Please join us for Sunday School at 9:30 AM. There are classes for all ages. \nThe morning Worship Service at 10:45 AM. as Pastor Jason Schafbuch brings the message “Where does the Responsibility Lie?\, part 2.”
URL:https://kabekona.org/event/sunday-february-1-2026/
ATTACH;FMTTYPE=image/jpeg:https://kabekona.org/wp-content/uploads/2025/06/Crosses-e1749823613866.jpg
END:VEVENT
BEGIN:VEVENT
DTSTART;TZID=America/Chicago:20260125T093000
DTEND;TZID=America/Chicago:20260125T123000
DTSTAMP:20260421T065758
CREATED:20260123T170646Z
LAST-MODIFIED:20260123T170646Z
UID:332-1769333400-1769344200@kabekona.org
SUMMARY:Sunday\, January 25\, 2026
DESCRIPTION:Please join us for Sunday School at 9:30 AM\, classes for all ages. \nThe morning Worship Service at 10:45 AM as Pastor Jason Schafbuch brings the message “Where does the Responsibility Lie?” – Romans 13:1-7. \n 
URL:https://kabekona.org/event/sunday-january-25-2026/
ATTACH;FMTTYPE=image/jpeg:https://kabekona.org/wp-content/uploads/2025/06/Crosses-e1749823613866.jpg
END:VEVENT
BEGIN:VEVENT
DTSTART;TZID=America/Chicago:20260118T093000
DTEND;TZID=America/Chicago:20260118T123000
DTSTAMP:20260421T065758
CREATED:20260117T160811Z
LAST-MODIFIED:20260117T160811Z
UID:330-1768728600-1768739400@kabekona.org
SUMMARY:Sunday\, January 18\, 2026
DESCRIPTION:Please join us for Sunday School at 9:30 a.m. There are classes for all ages. \nThe morning Worship Service at 10:45 a.m. as Pastor Jason Schafbuch brings the message “Our Marks of Spiritual Worship in the midst of difficult people.” – Romans 12:17-21.
URL:https://kabekona.org/event/sunday-january-18-2026/
ATTACH;FMTTYPE=image/jpeg:https://kabekona.org/wp-content/uploads/2025/06/Crosses-e1749823613866.jpg
END:VEVENT
BEGIN:VEVENT
DTSTART;TZID=America/Chicago:20260111T093000
DTEND;TZID=America/Chicago:20260111T123000
DTSTAMP:20260421T065758
CREATED:20260110T015143Z
LAST-MODIFIED:20260110T015143Z
UID:327-1768123800-1768134600@kabekona.org
SUMMARY:Sunday\, January 11\, 2026
DESCRIPTION:Please join us for Sunday School at 9:30 a.m.\, classes for all ages. \nThe morning Worship Service and Communion at 10:45 a.m. as Pastor Jason Schafbuch brings the message “Marks of our Spiritual Worship\, part 2.” – Romans 12:12-17.
URL:https://kabekona.org/event/sunday-january-11-2026/
ATTACH;FMTTYPE=image/jpeg:https://kabekona.org/wp-content/uploads/2025/06/Crosses-e1749823613866.jpg
END:VEVENT
BEGIN:VEVENT
DTSTART;TZID=America/Chicago:20260104T093000
DTEND;TZID=America/Chicago:20260104T123000
DTSTAMP:20260421T065758
CREATED:20260103T165414Z
LAST-MODIFIED:20260103T165414Z
UID:324-1767519000-1767529800@kabekona.org
SUMMARY:Sunday\, January 4\, 2026
DESCRIPTION:Please join us for Sunday School at 9:30 AM\, classes for all ages. \nThe morning Worship Service at 10:45 AM as Pastor Jason Schafbuch brings the message “The Care of the Wounded Sheep” – Romans 12:13-15.
URL:https://kabekona.org/event/sunday-january-4-2026/
ATTACH;FMTTYPE=image/jpeg:https://kabekona.org/wp-content/uploads/2025/06/Crosses-e1749823613866.jpg
END:VEVENT
BEGIN:VEVENT
DTSTART;TZID=America/Chicago:20251228T093000
DTEND;TZID=America/Chicago:20251228T123000
DTSTAMP:20260421T065758
CREATED:20251227T043040Z
LAST-MODIFIED:20251227T043040Z
UID:321-1766914200-1766925000@kabekona.org
SUMMARY:Sunday\, December 28\, 2025
DESCRIPTION:Please join us for Sunday School at 9:30 am\, there are classes for all ages. \nThe morning Worship Service at 10:45 am as Josiah Hoagland brings the message “Teach Us to Number Our Days” – Psalm 39.
URL:https://kabekona.org/event/sunday-december-28-2025/
ATTACH;FMTTYPE=image/jpeg:https://kabekona.org/wp-content/uploads/2025/06/Crosses-e1749823613866.jpg
END:VEVENT
BEGIN:VEVENT
DTSTART;TZID=America/Chicago:20251221T093000
DTEND;TZID=America/Chicago:20251221T123000
DTSTAMP:20260421T065758
CREATED:20251220T011425Z
LAST-MODIFIED:20251220T011425Z
UID:318-1766309400-1766320200@kabekona.org
SUMMARY:Sunday\, December 21\, 2025
DESCRIPTION:Please join us for Sunday School at 9:30 AM. There are classes for all ages. \nThe morning Worship Service at 10:45 AM as Josiah Hoagland brings the Christmas message “Christ’s Glory in Advent – Luke 1:26-33.
URL:https://kabekona.org/event/sunday-december-21-2025/
ATTACH;FMTTYPE=image/png:https://kabekona.org/wp-content/uploads/2025/12/Christmas.png
END:VEVENT
BEGIN:VEVENT
DTSTART;TZID=America/Chicago:20251214T093000
DTEND;TZID=America/Chicago:20251214T123000
DTSTAMP:20260421T065758
CREATED:20251213T155615Z
LAST-MODIFIED:20251213T155738Z
UID:315-1765704600-1765715400@kabekona.org
SUMMARY:Sunday\, December 14\, 2025
DESCRIPTION:Please join us for Sunday School at 9:30am\, there are classes available for all ages. \nThe morning Worship Service and Communion at 10:45am as Pastor Jason Schafbuch brings the message “Marks of our Spiritual Worship\, part 1″ – Romans 12:9-13.”
URL:https://kabekona.org/event/sunday-december-14-2025/
ATTACH;FMTTYPE=image/jpeg:https://kabekona.org/wp-content/uploads/2025/06/Crosses-e1749823613866.jpg
END:VEVENT
BEGIN:VEVENT
DTSTART;TZID=America/Chicago:20251207T093000
DTEND;TZID=America/Chicago:20251207T123000
DTSTAMP:20260421T065758
CREATED:20251207T031524Z
LAST-MODIFIED:20251207T031524Z
UID:312-1765099800-1765110600@kabekona.org
SUMMARY:Sunday\, December 7\, 2025
DESCRIPTION:Please join us for Sunday School at 9:30 am\, there are classes available for all ages. \nThe morning Worship Service at 10:45 am as Pastor Jason Schafbuch brings the message “Gifts are not meant to stay under the tree.” – Romans 12:6-8.
URL:https://kabekona.org/event/sunday-december-7-2025/
ATTACH;FMTTYPE=image/jpeg:https://kabekona.org/wp-content/uploads/2025/06/Crosses-e1749823613866.jpg
END:VEVENT
BEGIN:VEVENT
DTSTART;TZID=America/Chicago:20251130T093000
DTEND;TZID=America/Chicago:20251130T123000
DTSTAMP:20260421T065758
CREATED:20251130T144549Z
LAST-MODIFIED:20251130T144549Z
UID:309-1764495000-1764505800@kabekona.org
SUMMARY:Sunday\, November 30\, 2025
DESCRIPTION:Please join us for Sunday School beginning at 9:30 AM\, classes for all ages. \nThe morning worship service at 10:45 AM as Josiah Hoagland brings the message “Bless the Lord” – Psalm 103.
URL:https://kabekona.org/event/sunday-november-30-2025/
ATTACH;FMTTYPE=image/jpeg:https://kabekona.org/wp-content/uploads/2025/06/Crosses-e1749823613866.jpg
END:VEVENT
BEGIN:VEVENT
DTSTART;TZID=America/Chicago:20251123T180000
DTEND;TZID=America/Chicago:20251123T190000
DTSTAMP:20260421T065758
CREATED:20251122T132227Z
LAST-MODIFIED:20251122T132227Z
UID:306-1763920800-1763924400@kabekona.org
SUMMARY:Thanksgiving Service
DESCRIPTION:Please join us this evening for a time of thankful worship to our faithful God.
URL:https://kabekona.org/event/thanksgiving-service/
ATTACH;FMTTYPE=image/jpeg:https://kabekona.org/wp-content/uploads/2025/11/Give-Thanks.jpg
END:VEVENT
BEGIN:VEVENT
DTSTART;TZID=America/Chicago:20251123T093000
DTEND;TZID=America/Chicago:20251123T123000
DTSTAMP:20260421T065758
CREATED:20251122T131712Z
LAST-MODIFIED:20251122T131712Z
UID:303-1763890200-1763901000@kabekona.org
SUMMARY:Sunday\, November 23\, 2025
DESCRIPTION:Please join us for Sunday School at 9:30 am\, there are classes available for all ages. \nThe morning Worship Service at 10:45 am as Pastor Jason Schafbuch brings the message “One Body\, Many Members” – Romans 12:3-5.
URL:https://kabekona.org/event/sunday-november-23-2025/
ATTACH;FMTTYPE=image/jpeg:https://kabekona.org/wp-content/uploads/2025/06/Crosses-e1749823613866.jpg
END:VEVENT
BEGIN:VEVENT
DTSTART;TZID=America/Chicago:20251116T093000
DTEND;TZID=America/Chicago:20251116T123000
DTSTAMP:20260421T065758
CREATED:20251115T172708Z
LAST-MODIFIED:20251115T172708Z
UID:301-1763285400-1763296200@kabekona.org
SUMMARY:Sunday\, November 16\, 2025
DESCRIPTION:Please join us for Sunday School at 9:30 AM\, classes for all ages. \nThe morning Worship Service at 10:45 AM as Pastor Jason Schafbuch brings the message “The Essentials of Worship” – Romans 12:1-2.
URL:https://kabekona.org/event/sunday-november-16-2025/
ATTACH;FMTTYPE=image/jpeg:https://kabekona.org/wp-content/uploads/2025/06/Crosses-e1749823613866.jpg
END:VEVENT
BEGIN:VEVENT
DTSTART;TZID=America/Chicago:20251109T093000
DTEND;TZID=America/Chicago:20251109T123000
DTSTAMP:20260421T065758
CREATED:20251108T144128Z
LAST-MODIFIED:20251108T144128Z
UID:298-1762680600-1762691400@kabekona.org
SUMMARY:Sunday November 9\, 2025
DESCRIPTION:Please join us for Sunday School at 9:30 AM\, classes for all ages. \nThe morning Worship Service and Communion at 10:45 AM as Pastor Jason Schafbuch brings the message “The Majesty of God” – Romans 11:30-36.
URL:https://kabekona.org/event/sunday-november-9-2025/
ATTACH;FMTTYPE=image/jpeg:https://kabekona.org/wp-content/uploads/2025/06/Crosses-e1749823613866.jpg
END:VEVENT
BEGIN:VEVENT
DTSTART;TZID=America/Chicago:20251102T093000
DTEND;TZID=America/Chicago:20251102T123000
DTSTAMP:20260421T065758
CREATED:20251031T201108Z
LAST-MODIFIED:20251031T201108Z
UID:294-1762075800-1762086600@kabekona.org
SUMMARY:Sunday\, November 2\, 2025
DESCRIPTION:Please join us for Sunday School at 9:30 AM\, classes for all ages. \nThe morning Worship Service at 10:45 AM as Pastor Jason Schafbuch brings the message “The Majesty of God” – Romans 11:30-36.
URL:https://kabekona.org/event/sunday-november-2-2025/
ATTACH;FMTTYPE=image/jpeg:https://kabekona.org/wp-content/uploads/2025/06/Crosses-e1749823613866.jpg
END:VEVENT
BEGIN:VEVENT
DTSTART;TZID=America/Chicago:20251026T093000
DTEND;TZID=America/Chicago:20251026T123000
DTSTAMP:20260421T065758
CREATED:20251026T125624Z
LAST-MODIFIED:20251026T125624Z
UID:292-1761471000-1761481800@kabekona.org
SUMMARY:Sunday October 26\, 2025
DESCRIPTION:Please join us for Sunday School at 9:30 AM\, classes for all ages. \nThe morning Worship Service at 10:45 AM as Pastor Jason Schafbuch brings the message “God’s Mysteries” – Romans 11:25-29.
URL:https://kabekona.org/event/sunday-october-26-2025/
ATTACH;FMTTYPE=image/jpeg:https://kabekona.org/wp-content/uploads/2025/06/Crosses-e1749823613866.jpg
END:VEVENT
BEGIN:VEVENT
DTSTART;TZID=America/Chicago:20251019T093000
DTEND;TZID=America/Chicago:20251019T093000
DTSTAMP:20260421T065758
CREATED:20251018T000314Z
LAST-MODIFIED:20251018T000514Z
UID:287-1760866200-1760866200@kabekona.org
SUMMARY:Sunday October 19\, 2025
DESCRIPTION:Please join us for Sunday School at 9:30 AM\, classes for all ages. \nThe morning Worship Service at10:45 AM as Pastor Jason Schafbuch brings the message “The Kindness of God” – Romans 11:17-24.
URL:https://kabekona.org/event/sunday-october-19-2025/
ATTACH;FMTTYPE=image/jpeg:https://kabekona.org/wp-content/uploads/2025/06/Crosses-e1749823613866.jpg
END:VEVENT
BEGIN:VEVENT
DTSTART;TZID=America/Chicago:20251012T093000
DTEND;TZID=America/Chicago:20251012T123000
DTSTAMP:20260421T065758
CREATED:20251011T012505Z
LAST-MODIFIED:20251011T012505Z
UID:285-1760261400-1760272200@kabekona.org
SUMMARY:Sunday October 12\, 2025
DESCRIPTION:Please join us for Sunday School at 9:30 AM\, classes for all ages. \nThe morning Worship Service and Communion at10:45 AM as Pastor Jason Schafbuch brings the message “The Mercy of God” – Romans 11:7-15.
URL:https://kabekona.org/event/sunday-october-12-2025/
ATTACH;FMTTYPE=image/jpeg:https://kabekona.org/wp-content/uploads/2025/06/Crosses-e1749823613866.jpg
END:VEVENT
BEGIN:VEVENT
DTSTART;TZID=America/Chicago:20251005T093000
DTEND;TZID=America/Chicago:20251005T123000
DTSTAMP:20260421T065758
CREATED:20251004T185120Z
LAST-MODIFIED:20251004T185120Z
UID:282-1759656600-1759667400@kabekona.org
SUMMARY:Sunday October 5\, 2025
DESCRIPTION:Please join us for Sunday School at 9:30 AM\, classes for all ages. \nThe morning Worship Service at 10:45 AM as Pastor Jason Schafbuch brings the message “We walk by Faith not by Sight” – Romans 11:1-7.
URL:https://kabekona.org/event/sunday-october-5-2025/
ATTACH;FMTTYPE=image/jpeg:https://kabekona.org/wp-content/uploads/2025/06/Crosses-e1749823613866.jpg
END:VEVENT
BEGIN:VEVENT
DTSTART;TZID=America/Chicago:20250928T093000
DTEND;TZID=America/Chicago:20250928T123000
DTSTAMP:20260421T065758
CREATED:20250927T172743Z
LAST-MODIFIED:20250927T172743Z
UID:279-1759051800-1759062600@kabekona.org
SUMMARY:Sunday September 28\, 2025
DESCRIPTION:Please join us for Sunday School at 9:30 AM\, classes for all ages. \nThe morning Worship Service at 10:45 AM as Pastor Jason Schafbuch brings the message “An Obedient Heart know the Lord” – Romans 10:16-21.
URL:https://kabekona.org/event/sunday-september-28-2025/
ATTACH;FMTTYPE=image/jpeg:https://kabekona.org/wp-content/uploads/2025/06/Crosses-e1749823613866.jpg
END:VEVENT
END:VCALENDAR