BEGIN:VCALENDAR
VERSION:2.0
PRODID:-//Kabekona Community Church - ECPv6.15.17//NONSGML v1.0//EN
CALSCALE:GREGORIAN
METHOD:PUBLISH
X-ORIGINAL-URL:https://kabekona.org
X-WR-CALDESC:Events for Kabekona Community Church
REFRESH-INTERVAL;VALUE=DURATION:PT1H
X-Robots-Tag:noindex
X-PUBLISHED-TTL:PT1H
BEGIN:VTIMEZONE
TZID:America/Chicago
BEGIN:DAYLIGHT
TZOFFSETFROM:-0600
TZOFFSETTO:-0500
TZNAME:CDT
DTSTART:20240310T080000
END:DAYLIGHT
BEGIN:STANDARD
TZOFFSETFROM:-0500
TZOFFSETTO:-0600
TZNAME:CST
DTSTART:20241103T070000
END:STANDARD
BEGIN:DAYLIGHT
TZOFFSETFROM:-0600
TZOFFSETTO:-0500
TZNAME:CDT
DTSTART:20250309T080000
END:DAYLIGHT
BEGIN:STANDARD
TZOFFSETFROM:-0500
TZOFFSETTO:-0600
TZNAME:CST
DTSTART:20251102T070000
END:STANDARD
BEGIN:DAYLIGHT
TZOFFSETFROM:-0600
TZOFFSETTO:-0500
TZNAME:CDT
DTSTART:20260308T080000
END:DAYLIGHT
BEGIN:STANDARD
TZOFFSETFROM:-0500
TZOFFSETTO:-0600
TZNAME:CST
DTSTART:20261101T070000
END:STANDARD
END:VTIMEZONE
BEGIN:VEVENT
DTSTART;TZID=America/Chicago:20251228T093000
DTEND;TZID=America/Chicago:20251228T123000
DTSTAMP:20260421T090726
CREATED:20251227T043040Z
LAST-MODIFIED:20251227T043040Z
UID:321-1766914200-1766925000@kabekona.org
SUMMARY:Sunday\, December 28\, 2025
DESCRIPTION:Please join us for Sunday School at 9:30 am\, there are classes for all ages. \nThe morning Worship Service at 10:45 am as Josiah Hoagland brings the message “Teach Us to Number Our Days” – Psalm 39.
URL:https://kabekona.org/event/sunday-december-28-2025/
ATTACH;FMTTYPE=image/jpeg:https://kabekona.org/wp-content/uploads/2025/06/Crosses-e1749823613866.jpg
END:VEVENT
END:VCALENDAR